BEGIN:VCALENDAR
VERSION:2.0
PRODID:-//Careers - ECPv6.15.20//NONSGML v1.0//EN
CALSCALE:GREGORIAN
METHOD:PUBLISH
X-ORIGINAL-URL:https://careers.gc.ac.nz
X-WR-CALDESC:Events for Careers
REFRESH-INTERVAL;VALUE=DURATION:PT1H
X-Robots-Tag:noindex
X-PUBLISHED-TTL:PT1H
BEGIN:VTIMEZONE
TZID:UTC
BEGIN:STANDARD
TZOFFSETFROM:+0000
TZOFFSETTO:+0000
TZNAME:UTC
DTSTART:20220101T000000
END:STANDARD
END:VTIMEZONE
BEGIN:VEVENT
DTSTART;TZID=UTC:20230811T090000
DTEND;TZID=UTC:20230811T160000
DTSTAMP:20260426T035806
CREATED:20230430T221645Z
LAST-MODIFIED:20230621T210443Z
UID:3454-1691744400-1691769600@careers.gc.ac.nz
SUMMARY:Massey University Albany Campus Open Day
DESCRIPTION:https://www.massey.ac.nz/about/events/open-day-2023-auckland-campus/
URL:https://careers.gc.ac.nz/event/massey-university-albany-campus-open-day-2/
END:VEVENT
END:VCALENDAR