BEGIN:VCALENDAR
VERSION:2.0
PRODID:-//Careers - ECPv6.15.20//NONSGML v1.0//EN
CALSCALE:GREGORIAN
METHOD:PUBLISH
X-WR-CALNAME:Careers
X-ORIGINAL-URL:https://careers.gc.ac.nz
X-WR-CALDESC:Events for Careers
REFRESH-INTERVAL;VALUE=DURATION:PT1H
X-Robots-Tag:noindex
X-PUBLISHED-TTL:PT1H
BEGIN:VTIMEZONE
TZID:UTC
BEGIN:STANDARD
TZOFFSETFROM:+0000
TZOFFSETTO:+0000
TZNAME:UTC
DTSTART:20230101T000000
END:STANDARD
END:VTIMEZONE
BEGIN:VEVENT
DTSTART;TZID=UTC:20240521T133000
DTEND;TZID=UTC:20240521T141000
DTSTAMP:20260423T234258
CREATED:20240403T001417Z
LAST-MODIFIED:20240403T001417Z
UID:3832-1716298200-1716300600@careers.gc.ac.nz
SUMMARY:Massey University overview visit
DESCRIPTION:Find out what is on offer at Massey University.
URL:https://careers.gc.ac.nz/event/massey-university-overview-visit-3/
LOCATION:Careers Room
END:VEVENT
END:VCALENDAR