BEGIN:VCALENDAR
VERSION:2.0
PRODID:-//Careers - ECPv6.15.20//NONSGML v1.0//EN
CALSCALE:GREGORIAN
METHOD:PUBLISH
X-ORIGINAL-URL:https://careers.gc.ac.nz
X-WR-CALDESC:Events for Careers
REFRESH-INTERVAL;VALUE=DURATION:PT1H
X-Robots-Tag:noindex
X-PUBLISHED-TTL:PT1H
BEGIN:VTIMEZONE
TZID:UTC
BEGIN:STANDARD
TZOFFSETFROM:+0000
TZOFFSETTO:+0000
TZNAME:UTC
DTSTART:20230101T000000
END:STANDARD
END:VTIMEZONE
BEGIN:VEVENT
DTSTART;TZID=UTC:20240522T190000
DTEND;TZID=UTC:20240522T203000
DTSTAMP:20260423T234746
CREATED:20240430T034626Z
LAST-MODIFIED:20240430T034628Z
UID:3873-1716404400-1716409800@careers.gc.ac.nz
SUMMARY:Laidlaw College Open Evenings
DESCRIPTION:
URL:https://careers.gc.ac.nz/event/laidlaw-college-open-evenings-2/
LOCATION:Laidlaw College\, 3 Smythe Road\, Henderson\, Auckland\, 0610\, New Zealand
END:VEVENT
END:VCALENDAR