BEGIN:VCALENDAR
VERSION:2.0
PRODID:-//Careers - ECPv6.15.20//NONSGML v1.0//EN
CALSCALE:GREGORIAN
METHOD:PUBLISH
X-WR-CALNAME:Careers
X-ORIGINAL-URL:https://careers.gc.ac.nz
X-WR-CALDESC:Events for Careers
REFRESH-INTERVAL;VALUE=DURATION:PT1H
X-Robots-Tag:noindex
X-PUBLISHED-TTL:PT1H
BEGIN:VTIMEZONE
TZID:UTC
BEGIN:STANDARD
TZOFFSETFROM:+0000
TZOFFSETTO:+0000
TZNAME:UTC
DTSTART:20230101T000000
END:STANDARD
END:VTIMEZONE
BEGIN:VEVENT
DTSTART;TZID=UTC:20240528T133000
DTEND;TZID=UTC:20240528T141000
DTSTAMP:20260423T221611
CREATED:20240403T001539Z
LAST-MODIFIED:20240403T001539Z
UID:3835-1716903000-1716905400@careers.gc.ac.nz
SUMMARY:Victoria University of Wellington overview visit
DESCRIPTION:Find out what is on offer at Victoria University of Wellington.
URL:https://careers.gc.ac.nz/event/victoria-university-of-wellington-overview-visit-3/
LOCATION:Careers Room
END:VEVENT
END:VCALENDAR