BEGIN:VCALENDAR
VERSION:2.0
PRODID:-//Careers - ECPv6.15.20//NONSGML v1.0//EN
CALSCALE:GREGORIAN
METHOD:PUBLISH
X-WR-CALNAME:Careers
X-ORIGINAL-URL:https://careers.gc.ac.nz
X-WR-CALDESC:Events for Careers
REFRESH-INTERVAL;VALUE=DURATION:PT1H
X-Robots-Tag:noindex
X-PUBLISHED-TTL:PT1H
BEGIN:VTIMEZONE
TZID:UTC
BEGIN:STANDARD
TZOFFSETFROM:+0000
TZOFFSETTO:+0000
TZNAME:UTC
DTSTART:20230101T000000
END:STANDARD
END:VTIMEZONE
BEGIN:VEVENT
DTSTART;TZID=UTC:20240612T160000
DTEND;TZID=UTC:20240612T193000
DTSTAMP:20260423T221611
CREATED:20240403T002034Z
LAST-MODIFIED:20240403T002034Z
UID:3839-1718208000-1718220600@careers.gc.ac.nz
SUMMARY:North Shore Schools Career Expo
DESCRIPTION:An opportunity to find out about a variety of possible career paths and where you can study for them. \n 
URL:https://careers.gc.ac.nz/event/north-shore-schools-career-expo/
LOCATION:North Harbour Stadium\, Albany\, Auckland\, New Zealand
END:VEVENT
END:VCALENDAR