BEGIN:VCALENDAR
VERSION:2.0
PRODID:-//Careers - ECPv6.15.20//NONSGML v1.0//EN
CALSCALE:GREGORIAN
METHOD:PUBLISH
X-ORIGINAL-URL:https://careers.gc.ac.nz
X-WR-CALDESC:Events for Careers
REFRESH-INTERVAL;VALUE=DURATION:PT1H
X-Robots-Tag:noindex
X-PUBLISHED-TTL:PT1H
BEGIN:VTIMEZONE
TZID:UTC
BEGIN:STANDARD
TZOFFSETFROM:+0000
TZOFFSETTO:+0000
TZNAME:UTC
DTSTART:20230101T000000
END:STANDARD
END:VTIMEZONE
BEGIN:VEVENT
DTSTART;TZID=UTC:20240615T123000
DTEND;TZID=UTC:20240615T153000
DTSTAMP:20260423T221715
CREATED:20240404T213710Z
LAST-MODIFIED:20240404T213712Z
UID:3849-1718454600-1718465400@careers.gc.ac.nz
SUMMARY:NZ College of Chirpopractic Open Day
DESCRIPTION:
URL:https://careers.gc.ac.nz/event/nz-college-of-chirpopractic-open-day/
LOCATION:NZ College of Chiropractic\, 6 Harrison Road\, Mt Wellington\, Auckland\, New Zealand
END:VEVENT
END:VCALENDAR