BEGIN:VCALENDAR
VERSION:2.0
PRODID:-//Careers - ECPv6.15.20//NONSGML v1.0//EN
CALSCALE:GREGORIAN
METHOD:PUBLISH
X-ORIGINAL-URL:https://careers.gc.ac.nz
X-WR-CALDESC:Events for Careers
REFRESH-INTERVAL;VALUE=DURATION:PT1H
X-Robots-Tag:noindex
X-PUBLISHED-TTL:PT1H
BEGIN:VTIMEZONE
TZID:UTC
BEGIN:STANDARD
TZOFFSETFROM:+0000
TZOFFSETTO:+0000
TZNAME:UTC
DTSTART:20230101T000000
END:STANDARD
END:VTIMEZONE
BEGIN:VEVENT
DTSTART;TZID=UTC:20240620T100000
DTEND;TZID=UTC:20240620T150000
DTSTAMP:20260423T221705
CREATED:20240312T210117Z
LAST-MODIFIED:20240312T210117Z
UID:3796-1718877600-1718895600@careers.gc.ac.nz
SUMMARY:NZ Careers Expo
DESCRIPTION:The NZ Careers Expo seeks to inspire and motivate young people to explore and discover the huge range of options and connect with organisations that help make their career aspirations a reality.
URL:https://careers.gc.ac.nz/event/nz-careers-expo-5/
LOCATION:ASB Showgrounds\, 217 Green Lane West\, Greenlane\, Auckland\, New Zealand
END:VEVENT
END:VCALENDAR