BEGIN:VCALENDAR
VERSION:2.0
PRODID:-//Careers - ECPv6.15.20//NONSGML v1.0//EN
CALSCALE:GREGORIAN
METHOD:PUBLISH
X-ORIGINAL-URL:https://careers.gc.ac.nz
X-WR-CALDESC:Events for Careers
REFRESH-INTERVAL;VALUE=DURATION:PT1H
X-Robots-Tag:noindex
X-PUBLISHED-TTL:PT1H
BEGIN:VTIMEZONE
TZID:UTC
BEGIN:STANDARD
TZOFFSETFROM:+0000
TZOFFSETTO:+0000
TZNAME:UTC
DTSTART:20230101T000000
END:STANDARD
END:VTIMEZONE
BEGIN:VEVENT
DTSTART;TZID=UTC:20240622T100000
DTEND;TZID=UTC:20240622T140000
DTSTAMP:20260423T221703
CREATED:20240516T211143Z
LAST-MODIFIED:20240516T211145Z
UID:3933-1719050400-1719064800@careers.gc.ac.nz
SUMMARY:Women in Engineering at U of A
DESCRIPTION:For Registration Click
URL:https://careers.gc.ac.nz/event/women-in-engineering-at-u-of-a/
LOCATION:University of Auckland Engineering\, 3 Grafton Road\, Auckland\, New Zealand
END:VEVENT
END:VCALENDAR