BEGIN:VCALENDAR
VERSION:2.0
PRODID:-//Careers - ECPv6.15.20//NONSGML v1.0//EN
CALSCALE:GREGORIAN
METHOD:PUBLISH
X-ORIGINAL-URL:https://careers.gc.ac.nz
X-WR-CALDESC:Events for Careers
REFRESH-INTERVAL;VALUE=DURATION:PT1H
X-Robots-Tag:noindex
X-PUBLISHED-TTL:PT1H
BEGIN:VTIMEZONE
TZID:UTC
BEGIN:STANDARD
TZOFFSETFROM:+0000
TZOFFSETTO:+0000
TZNAME:UTC
DTSTART:20230101T000000
END:STANDARD
END:VTIMEZONE
BEGIN:VEVENT
DTSTART;TZID=UTC:20240625T180000
DTEND;TZID=UTC:20240625T200000
DTSTAMP:20260423T221704
CREATED:20240311T193510Z
LAST-MODIFIED:20240311T193510Z
UID:3791-1719338400-1719345600@careers.gc.ac.nz
SUMMARY:University of Auckland Mānawa Mai Info Evening (online)
DESCRIPTION:Find out about your study options and get answers to questions about your first year at uni. \nMore information and registration https://www.auckland.ac.nz/en/manawa-mai.html?
URL:https://careers.gc.ac.nz/event/university-of-auckland-manawa-mai-info-evening-online/
END:VEVENT
END:VCALENDAR