BEGIN:VCALENDAR
VERSION:2.0
PRODID:-//Careers - ECPv6.15.20//NONSGML v1.0//EN
CALSCALE:GREGORIAN
METHOD:PUBLISH
X-WR-CALNAME:Careers
X-ORIGINAL-URL:https://careers.gc.ac.nz
X-WR-CALDESC:Events for Careers
REFRESH-INTERVAL;VALUE=DURATION:PT1H
X-Robots-Tag:noindex
X-PUBLISHED-TTL:PT1H
BEGIN:VTIMEZONE
TZID:UTC
BEGIN:STANDARD
TZOFFSETFROM:+0000
TZOFFSETTO:+0000
TZNAME:UTC
DTSTART:20230101T000000
END:STANDARD
END:VTIMEZONE
BEGIN:VEVENT
DTSTART;TZID=UTC:20240702T100000
DTEND;TZID=UTC:20240702T143000
DTSTAMP:20260423T210018
CREATED:20240519T233832Z
LAST-MODIFIED:20240519T233832Z
UID:3935-1719914400-1719930600@careers.gc.ac.nz
SUMMARY:Massey Uni Digital and built environment day
DESCRIPTION:Welcome to the Massey University Digital and Built Environment Day 2024! \nThis in-person event will be held at Massey University Auckland campus\, where you can explore various workshops and engage with expert academics. Don’t miss this opportunity to immerse yourself in the world of innovation and discovery. \nStudents will need to choose either Construction or Information Sciences and participate in a range of workshops in that subject area. \nConstruction \n\nLego group activity\nVR experience\nLighting display\nLiquefaction phenomenon demo\nNon-destructive concrete testing\n\nInformation Sciences \n\nMaths and stats – competing against your peers in some fun (and frustrating) games to discover how maths can give you the X factor\nComputer games programming
URL:https://careers.gc.ac.nz/event/massey-uni-digital-and-built-environment-day/
LOCATION:Massey University Albany Campus\, Gate 1\, Dairy Flat Highway (SH17)\, Albany\, Auckland\, New Zealand
END:VEVENT
END:VCALENDAR