BEGIN:VCALENDAR
VERSION:2.0
PRODID:-//Careers - ECPv6.15.20//NONSGML v1.0//EN
CALSCALE:GREGORIAN
METHOD:PUBLISH
X-ORIGINAL-URL:https://careers.gc.ac.nz
X-WR-CALDESC:Events for Careers
REFRESH-INTERVAL;VALUE=DURATION:PT1H
X-Robots-Tag:noindex
X-PUBLISHED-TTL:PT1H
BEGIN:VTIMEZONE
TZID:UTC
BEGIN:STANDARD
TZOFFSETFROM:+0000
TZOFFSETTO:+0000
TZNAME:UTC
DTSTART:20230101T000000
END:STANDARD
END:VTIMEZONE
BEGIN:VEVENT
DTSTART;TZID=UTC:20240720T100000
DTEND;TZID=UTC:20240720T120000
DTSTAMP:20260423T210917
CREATED:20240625T223320Z
LAST-MODIFIED:20240625T223321Z
UID:3996-1721469600-1721476800@careers.gc.ac.nz
SUMMARY:Introduction to Pilot Training
DESCRIPTION:
URL:https://careers.gc.ac.nz/event/introduction-to-pilot-training/
LOCATION:Ardmore Airport\, 500 Corsair Lane\, Auckland\, New Zealand
END:VEVENT
END:VCALENDAR