BEGIN:VCALENDAR
VERSION:2.0
PRODID:-//Careers - ECPv6.15.20//NONSGML v1.0//EN
CALSCALE:GREGORIAN
METHOD:PUBLISH
X-ORIGINAL-URL:https://careers.gc.ac.nz
X-WR-CALDESC:Events for Careers
REFRESH-INTERVAL;VALUE=DURATION:PT1H
X-Robots-Tag:noindex
X-PUBLISHED-TTL:PT1H
BEGIN:VTIMEZONE
TZID:UTC
BEGIN:STANDARD
TZOFFSETFROM:+0000
TZOFFSETTO:+0000
TZNAME:UTC
DTSTART:20230101T000000
END:STANDARD
END:VTIMEZONE
BEGIN:VEVENT
DTSTART;TZID=UTC:20240723T080000
DTEND;TZID=UTC:20240723T170000
DTSTAMP:20260423T210633
CREATED:20240723T234043Z
LAST-MODIFIED:20240723T234045Z
UID:4023-1721721600-1721754000@careers.gc.ac.nz
SUMMARY:QRC Information Night
DESCRIPTION:We invite you to join us for ourAuckland Info Night! \nAre you keen to learn more about QRC’s study options and explore career opportunitiesin the tourism industry? \nLearn about QRC’s Hospitality & Tourism Certificates and Diplomas\, the pathway to a degree and the invaluable real-world experience gained through the fully paid internships. \nTake the first step by joining us on the evening of the 22nd August at the Ramada in Newmarket to find out more. \nRegistration click here
URL:https://careers.gc.ac.nz/event/qrc-information-night/
END:VEVENT
BEGIN:VEVENT
DTSTART;TZID=UTC:20240723T090000
DTEND;TZID=UTC:20240723T120000
DTSTAMP:20260423T210633
CREATED:20240411T220759Z
LAST-MODIFIED:20240411T221642Z
UID:3863-1721725200-1721736000@careers.gc.ac.nz
SUMMARY:Careers in Hire Expo
DESCRIPTION:
URL:https://careers.gc.ac.nz/event/careers-in-hire-expo/
LOCATION:Viaduct Events Centre\, 12 Halsey St\, Auckland\, New Zealand
END:VEVENT
END:VCALENDAR