BEGIN:VCALENDAR
VERSION:2.0
PRODID:-//Careers - ECPv6.15.20//NONSGML v1.0//EN
CALSCALE:GREGORIAN
METHOD:PUBLISH
X-WR-CALNAME:Careers
X-ORIGINAL-URL:https://careers.gc.ac.nz
X-WR-CALDESC:Events for Careers
REFRESH-INTERVAL;VALUE=DURATION:PT1H
X-Robots-Tag:noindex
X-PUBLISHED-TTL:PT1H
BEGIN:VTIMEZONE
TZID:UTC
BEGIN:STANDARD
TZOFFSETFROM:+0000
TZOFFSETTO:+0000
TZNAME:UTC
DTSTART:20230101T000000
END:STANDARD
END:VTIMEZONE
BEGIN:VEVENT
DTSTART;TZID=UTC:20240817T100000
DTEND;TZID=UTC:20240817T150000
DTSTAMP:20260423T193808
CREATED:20240807T000016Z
LAST-MODIFIED:20240807T000018Z
UID:4052-1723888800-1723906800@careers.gc.ac.nz
SUMMARY:SAE Open Day
DESCRIPTION:
URL:https://careers.gc.ac.nz/event/sae-open-day-2/
LOCATION:SAE Institute\, 12 Heather St\, Parnell\, Auckland\, 1052\, New Zealand
END:VEVENT
END:VCALENDAR