BEGIN:VCALENDAR
VERSION:2.0
PRODID:-//Careers - ECPv6.15.20//NONSGML v1.0//EN
CALSCALE:GREGORIAN
METHOD:PUBLISH
X-ORIGINAL-URL:https://careers.gc.ac.nz
X-WR-CALDESC:Events for Careers
REFRESH-INTERVAL;VALUE=DURATION:PT1H
X-Robots-Tag:noindex
X-PUBLISHED-TTL:PT1H
BEGIN:VTIMEZONE
TZID:UTC
BEGIN:STANDARD
TZOFFSETFROM:+0000
TZOFFSETTO:+0000
TZNAME:UTC
DTSTART:20230101T000000
END:STANDARD
END:VTIMEZONE
BEGIN:VEVENT
DTSTART;TZID=UTC:20240821T160000
DTEND;TZID=UTC:20240821T203000
DTSTAMP:20260423T194417
CREATED:20240723T235019Z
LAST-MODIFIED:20240723T235020Z
UID:4027-1724256000-1724272200@careers.gc.ac.nz
SUMMARY:Air NZ Pilot
DESCRIPTION:
URL:https://careers.gc.ac.nz/event/air-nz-pilot/
LOCATION:Air New Zealand Academy of Learning\, 7 Rennie Drive\, Mangere\, Auckland\, New Zealand
END:VEVENT
END:VCALENDAR