BEGIN:VCALENDAR
VERSION:2.0
PRODID:-//Careers - ECPv6.15.20//NONSGML v1.0//EN
CALSCALE:GREGORIAN
METHOD:PUBLISH
X-WR-CALNAME:Careers
X-ORIGINAL-URL:https://careers.gc.ac.nz
X-WR-CALDESC:Events for Careers
REFRESH-INTERVAL;VALUE=DURATION:PT1H
X-Robots-Tag:noindex
X-PUBLISHED-TTL:PT1H
BEGIN:VTIMEZONE
TZID:UTC
BEGIN:STANDARD
TZOFFSETFROM:+0000
TZOFFSETTO:+0000
TZNAME:UTC
DTSTART:20230101T000000
END:STANDARD
END:VTIMEZONE
BEGIN:VEVENT
DTSTART;TZID=UTC:20240822T180000
DTEND;TZID=UTC:20240822T200000
DTSTAMP:20260423T193840
CREATED:20240725T214041Z
LAST-MODIFIED:20240725T214115Z
UID:4037-1724349600-1724356800@careers.gc.ac.nz
SUMMARY:QRC Information Night
DESCRIPTION:We invite you to join us for ourAuckland Info Night! Are you keen to learn more about QRC’s study options and explore career opportunities in the tourism industry? Learn about QRC’s Hospitality & Tourism Certificates and Diplomas\, the pathway to adegree and the invaluable real-world experience gained through the fully paid internships.Take the first step by joining us on the evening of the 22nd August at the Ramada in Newmarket to find out more. Register here.
URL:https://careers.gc.ac.nz/event/qrc-information-ight/
LOCATION:Ramada\, 41 Gillies Ave\, Auckland\, New Zealand
END:VEVENT
END:VCALENDAR