BEGIN:VCALENDAR
VERSION:2.0
PRODID:-//Careers - ECPv6.15.20//NONSGML v1.0//EN
CALSCALE:GREGORIAN
METHOD:PUBLISH
X-WR-CALNAME:Careers
X-ORIGINAL-URL:https://careers.gc.ac.nz
X-WR-CALDESC:Events for Careers
REFRESH-INTERVAL;VALUE=DURATION:PT1H
X-Robots-Tag:noindex
X-PUBLISHED-TTL:PT1H
BEGIN:VTIMEZONE
TZID:UTC
BEGIN:STANDARD
TZOFFSETFROM:+0000
TZOFFSETTO:+0000
TZNAME:UTC
DTSTART:20230101T000000
END:STANDARD
END:VTIMEZONE
BEGIN:VEVENT
DTSTART;TZID=UTC:20240914T100000
DTEND;TZID=UTC:20240914T140000
DTSTAMP:20260423T181100
CREATED:20240821T212203Z
LAST-MODIFIED:20240821T212203Z
UID:4075-1726308000-1726322400@careers.gc.ac.nz
SUMMARY:MIT Open day
DESCRIPTION:Click here to find out more and to register
URL:https://careers.gc.ac.nz/event/mit-open-day-2/
LOCATION:MIT\, Block D\, gate 3\, Newbury St\, Otara\, Auckland\, New Zealand
END:VEVENT
END:VCALENDAR