BEGIN:VCALENDAR
VERSION:2.0
PRODID:-//Careers - ECPv6.15.20//NONSGML v1.0//EN
CALSCALE:GREGORIAN
METHOD:PUBLISH
X-ORIGINAL-URL:https://careers.gc.ac.nz
X-WR-CALDESC:Events for Careers
REFRESH-INTERVAL;VALUE=DURATION:PT1H
X-Robots-Tag:noindex
X-PUBLISHED-TTL:PT1H
BEGIN:VTIMEZONE
TZID:UTC
BEGIN:STANDARD
TZOFFSETFROM:+0000
TZOFFSETTO:+0000
TZNAME:UTC
DTSTART:20230101T000000
END:STANDARD
END:VTIMEZONE
BEGIN:VEVENT
DTSTART;TZID=UTC:20240918T170000
DTEND;TZID=UTC:20240918T190000
DTSTAMP:20260423T181057
CREATED:20240816T021650Z
LAST-MODIFIED:20240816T021650Z
UID:4066-1726678800-1726686000@careers.gc.ac.nz
SUMMARY:Elite School of Beauty and Spa Open Day
DESCRIPTION:Click here for more information
URL:https://careers.gc.ac.nz/event/elite-school-of-beauty-and-spa-open-day/
END:VEVENT
BEGIN:VEVENT
DTSTART;TZID=UTC:20240918T170000
DTEND;TZID=UTC:20240918T190000
DTSTAMP:20260423T181057
CREATED:20240816T021802Z
LAST-MODIFIED:20240816T021802Z
UID:4068-1726678800-1726686000@careers.gc.ac.nz
SUMMARY:Cut Above Open Day
DESCRIPTION:Click here for more information
URL:https://careers.gc.ac.nz/event/cut-above-open-day/
END:VEVENT
END:VCALENDAR