BEGIN:VCALENDAR
VERSION:2.0
PRODID:-//Careers - ECPv6.15.20//NONSGML v1.0//EN
CALSCALE:GREGORIAN
METHOD:PUBLISH
X-WR-CALNAME:Careers
X-ORIGINAL-URL:https://careers.gc.ac.nz
X-WR-CALDESC:Events for Careers
REFRESH-INTERVAL;VALUE=DURATION:PT1H
X-Robots-Tag:noindex
X-PUBLISHED-TTL:PT1H
BEGIN:VTIMEZONE
TZID:UTC
BEGIN:STANDARD
TZOFFSETFROM:+0000
TZOFFSETTO:+0000
TZNAME:UTC
DTSTART:20240101T000000
END:STANDARD
END:VTIMEZONE
BEGIN:VEVENT
DTSTART;TZID=UTC:20250319T170000
DTEND;TZID=UTC:20250319T190000
DTSTAMP:20260423T090032
CREATED:20250306T213603Z
LAST-MODIFIED:20250306T213603Z
UID:4192-1742403600-1742410800@careers.gc.ac.nz
SUMMARY:NZ School of Tourism Open Day
DESCRIPTION:Check out what the NZ School of Tourism has to offer \nDetails and registration \nhttps://info.nzschooloftourism.co.nz/nzst-national-open-day
URL:https://careers.gc.ac.nz/event/nz-school-of-tourism-open-day-2/
END:VEVENT
END:VCALENDAR