BEGIN:VCALENDAR
VERSION:2.0
PRODID:-//Careers - ECPv6.15.20//NONSGML v1.0//EN
CALSCALE:GREGORIAN
METHOD:PUBLISH
X-ORIGINAL-URL:https://careers.gc.ac.nz
X-WR-CALDESC:Events for Careers
REFRESH-INTERVAL;VALUE=DURATION:PT1H
X-Robots-Tag:noindex
X-PUBLISHED-TTL:PT1H
BEGIN:VTIMEZONE
TZID:UTC
BEGIN:STANDARD
TZOFFSETFROM:+0000
TZOFFSETTO:+0000
TZNAME:UTC
DTSTART:20240101T000000
END:STANDARD
END:VTIMEZONE
BEGIN:VEVENT
DTSTART;TZID=UTC:20250514T133000
DTEND;TZID=UTC:20250514T141000
DTSTAMP:20260423T061448
CREATED:20250306T010424Z
LAST-MODIFIED:20250306T010424Z
UID:4180-1747229400-1747231800@careers.gc.ac.nz
SUMMARY:Massey University overview presentation
DESCRIPTION:Come and find out what Massey University has to offer across its 3 campuses.
URL:https://careers.gc.ac.nz/event/massey-university-overview-presentation/
LOCATION:Careers Room
END:VEVENT
BEGIN:VEVENT
DTSTART;TZID=UTC:20250514T190000
DTEND;TZID=UTC:20250514T203000
DTSTAMP:20260423T061448
CREATED:20250430T204753Z
LAST-MODIFIED:20250430T204753Z
UID:4259-1747249200-1747254600@careers.gc.ac.nz
SUMMARY:Laidlaw College Open Night
DESCRIPTION:Are you wanting to deepen your faith or prepare for ministry? Or do you sense a call to inspire young people as a primary or secondary school teacher?  Would you like to serve others through healing hearts\, minds\, and relationships as a counsellor? Maybe study is your next step! \nJoin us to explore your study options at our Open Night on our Henderson Campus. \nRegistration https://www.laidlaw.ac.nz/events/open-night-akld
URL:https://careers.gc.ac.nz/event/laidlaw-college-open-night-2/
LOCATION:Laidlaw College\, 3 Smythe Road\, Henderson\, Auckland\, 0610\, New Zealand
END:VEVENT
END:VCALENDAR