BEGIN:VCALENDAR
VERSION:2.0
PRODID:-//Careers - ECPv6.15.20//NONSGML v1.0//EN
CALSCALE:GREGORIAN
METHOD:PUBLISH
X-WR-CALNAME:Careers
X-ORIGINAL-URL:https://careers.gc.ac.nz
X-WR-CALDESC:Events for Careers
REFRESH-INTERVAL;VALUE=DURATION:PT1H
X-Robots-Tag:noindex
X-PUBLISHED-TTL:PT1H
BEGIN:VTIMEZONE
TZID:UTC
BEGIN:STANDARD
TZOFFSETFROM:+0000
TZOFFSETTO:+0000
TZNAME:UTC
DTSTART:20240101T000000
END:STANDARD
END:VTIMEZONE
BEGIN:VEVENT
DTSTART;TZID=UTC:20250529T100000
DTEND;TZID=UTC:20250529T130000
DTSTAMP:20260423T045420
CREATED:20250320T210236Z
LAST-MODIFIED:20250320T210236Z
UID:4205-1748512800-1748523600@careers.gc.ac.nz
SUMMARY:NZMA National Open Day
DESCRIPTION:Join us for our NZMA National Open Day and see what student life is like at NZMA\, New Zealand Institute of Sport and The Culinary Collective! \nOn Thursday\, 29th of May\, we will be opening our doors for you and your students to take part in some awesome activities\, get an inside peek of the campus and talk to our friendly staff and tutors about our courses that will help move them ahead. \nFind out more below about what’s taking place and register your interest to attend. \nLink to registration Click here \nCampuses \nAuckland \n\nAuckland Central\n\n\nManukau\n\n\nSylvia Park\nTrades South
URL:https://careers.gc.ac.nz/event/nzma-national-open-day/
END:VEVENT
BEGIN:VEVENT
DTSTART;TZID=UTC:20250529T160000
DTEND;TZID=UTC:20250529T193000
DTSTAMP:20260423T045420
CREATED:20250306T011128Z
LAST-MODIFIED:20250306T011128Z
UID:4188-1748534400-1748547000@careers.gc.ac.nz
SUMMARY:North Shore Schools Career Pathways Expo
DESCRIPTION:Come and find out possible career pathways for your future.
URL:https://careers.gc.ac.nz/event/north-shore-schools-career-pathways-expo-2/
LOCATION:North Harbour Stadium\, Albany\, Auckland\, New Zealand
END:VEVENT
BEGIN:VEVENT
DTSTART;TZID=UTC:20250529T180000
DTEND;TZID=UTC:20250529T200000
DTSTAMP:20260423T045420
CREATED:20250519T002419Z
LAST-MODIFIED:20250519T002419Z
UID:4312-1748541600-1748548800@careers.gc.ac.nz
SUMMARY:University of Auckland Engineering and Design Info Evening
DESCRIPTION:Our Engineering and Design Info Evening series involves presentations that broadly cover what engineering\, architecture\, urban planning and design is all about and what it’s like to study with us. It is aimed at Year 12 and 13 students and their parents\, though any high school student is encouraged to come along if they’re interested. \nYou’ll learn more about our degrees\, career prospects\, accommodation\, student life and financial support options. \nYou can also get in-depth details on how to apply and ask questions about what it’s like to be a student at the University of Auckland. We look forward to seeing you at our next info evening! \nRegistration link \nEither in person or online.
URL:https://careers.gc.ac.nz/event/university-of-auckland-engineering-and-design-info-evening-2/
LOCATION:University of Auckland Engineering\, 3 Grafton Road\, Auckland\, New Zealand
END:VEVENT
END:VCALENDAR