BEGIN:VCALENDAR
VERSION:2.0
PRODID:-//Careers - ECPv6.15.20//NONSGML v1.0//EN
CALSCALE:GREGORIAN
METHOD:PUBLISH
X-ORIGINAL-URL:https://careers.gc.ac.nz
X-WR-CALDESC:Events for Careers
REFRESH-INTERVAL;VALUE=DURATION:PT1H
X-Robots-Tag:noindex
X-PUBLISHED-TTL:PT1H
BEGIN:VTIMEZONE
TZID:UTC
BEGIN:STANDARD
TZOFFSETFROM:+0000
TZOFFSETTO:+0000
TZNAME:UTC
DTSTART:20240101T000000
END:STANDARD
END:VTIMEZONE
BEGIN:VEVENT
DTSTART;TZID=UTC:20250610T180000
DTEND;TZID=UTC:20250610T210000
DTSTAMP:20260423T045503
CREATED:20250519T001120Z
LAST-MODIFIED:20250519T001120Z
UID:4308-1749578400-1749589200@careers.gc.ac.nz
SUMMARY:University of Auckland Manawa Mai Info Evening online
DESCRIPTION:Many online webinars to give you information about the various faculties and degrees\, and other useful information about university life. \nFind more information and a registration link at  https://www.auckland.ac.nz/en/manawa-mai/info-evening.html
URL:https://careers.gc.ac.nz/event/university-of-auckland-manawa-mai-info-evening-online-2/
END:VEVENT
END:VCALENDAR