BEGIN:VCALENDAR
VERSION:2.0
PRODID:-//Careers - ECPv6.15.20//NONSGML v1.0//EN
CALSCALE:GREGORIAN
METHOD:PUBLISH
X-ORIGINAL-URL:https://careers.gc.ac.nz
X-WR-CALDESC:Events for Careers
REFRESH-INTERVAL;VALUE=DURATION:PT1H
X-Robots-Tag:noindex
X-PUBLISHED-TTL:PT1H
BEGIN:VTIMEZONE
TZID:UTC
BEGIN:STANDARD
TZOFFSETFROM:+0000
TZOFFSETTO:+0000
TZNAME:UTC
DTSTART:20240101T000000
END:STANDARD
END:VTIMEZONE
BEGIN:VEVENT
DTSTART;TZID=UTC:20250617T150000
DTEND;TZID=UTC:20250617T190000
DTSTAMP:20260423T045504
CREATED:20250609T203840Z
LAST-MODIFIED:20250609T203841Z
UID:4371-1750172400-1750186800@careers.gc.ac.nz
SUMMARY:Tahatu Careers Expo
DESCRIPTION:
URL:https://careers.gc.ac.nz/event/tahatu-careers-expo/
LOCATION:ASB Showgrounds\, 217 Green Lane West\, Greenlane\, Auckland\, New Zealand
END:VEVENT
BEGIN:VEVENT
DTSTART;TZID=UTC:20250617T183000
DTEND;TZID=UTC:20250617T200000
DTSTAMP:20260423T045504
CREATED:20250505T210527Z
LAST-MODIFIED:20250505T210527Z
UID:4273-1750185000-1750190400@careers.gc.ac.nz
SUMMARY:University of Otago Auckland Information Evening
DESCRIPTION:This is a great opportunity for you to hear all about Otago\, including accommodation\, scholarships and study options.
URL:https://careers.gc.ac.nz/event/university-of-otago-auckland-information-evening/
LOCATION:Ellerslie Events Centre\, Auckland\, New Zealand
END:VEVENT
BEGIN:VEVENT
DTSTART;TZID=UTC:20250617T190000
DTEND;TZID=UTC:20250617T203000
DTSTAMP:20260423T045504
CREATED:20250526T210903Z
LAST-MODIFIED:20250526T210940Z
UID:4339-1750186800-1750192200@careers.gc.ac.nz
SUMMARY:Massey University College of Creative Arts Information Evening
DESCRIPTION:College of Creative Arts information evening \nJune 17th 7pm-8:30pm\n\nDid you know that nearly a quarter of our students at the Wellington campus have made the move from Tāmaki Makaurau to study with us? \nPlease pass on this invitation to students and their whānau who are interested in finding out more about studying with us. \nWe’ll begin the evening with a visit to our Photography exhibition\, followed by a presentation that outlines the exciting opportunities available at the College. There will be plenty of time for Q&A\, so bring your questions! \nRegister here  \n  \nCome along to discover how our Design\, Commercial Music\, Fine Arts\, and Screen Arts programmes are now more flexible than ever. With options ranging from 6-month certificates to our new 1.5 year masters programmes\, and 3-year Bachelor’s degrees there’s a pathway for everyone. \nThis is a great opportunity for students and whānau to: \n\nExplore our 20+ majors and minor options\nHear from our lecturers\nGet tips on preparing a portfolio\nAsk questions about university life\, entry requirements\, and creative career pathways\n\n  \nWe look forward to seeing you there. Please reach out to Dane Anderson in our future students team with any questions\, or if you have students needing support with course planning and enrolment: d.anderson1@massey.ac.nz \nNgā mihi nui\nToi Rauwhārangi\nCollege of Creative Arts\nMassey University
URL:https://careers.gc.ac.nz/event/massey-university-college-of-creative-arts-information-evening/
END:VEVENT
END:VCALENDAR