BEGIN:VCALENDAR
VERSION:2.0
PRODID:-//Careers - ECPv6.15.20//NONSGML v1.0//EN
CALSCALE:GREGORIAN
METHOD:PUBLISH
X-ORIGINAL-URL:https://careers.gc.ac.nz
X-WR-CALDESC:Events for Careers
REFRESH-INTERVAL;VALUE=DURATION:PT1H
X-Robots-Tag:noindex
X-PUBLISHED-TTL:PT1H
BEGIN:VTIMEZONE
TZID:UTC
BEGIN:STANDARD
TZOFFSETFROM:+0000
TZOFFSETTO:+0000
TZNAME:UTC
DTSTART:20240101T000000
END:STANDARD
END:VTIMEZONE
BEGIN:VEVENT
DTSTART;TZID=UTC:20250702T093000
DTEND;TZID=UTC:20250702T140000
DTSTAMP:20260423T033515
CREATED:20250518T235105Z
LAST-MODIFIED:20250608T220522Z
UID:4306-1751448600-1751464800@careers.gc.ac.nz
SUMMARY:AUT Art and Design Info Day
DESCRIPTION:You are invited to the AUT Art & Design Information Day on Wednesday 2 July. \nHear about our programmes\, including: \n\nBachelor of Design Te Tohu Paetahi mō te Hoahoa\nBachelor of Visual Arts Te Tohu Paetahi mō Toi Ataata\n\nStudents will also have the opportunity to tour our amazing facilties including the Motion Capture Lab\, 3D modelling workshops\, screen printing studio\, book bindery\, photography studios\, and our brand-new Virtual Production Studio. \nDate: Wednesday\, 2 July\nTime: 9.30am to 2pm\nLocation: AUT City Campus – WZ building\, St Paul Street\, Auckland Central
URL:https://careers.gc.ac.nz/event/aut-art-and-design-info-day/
LOCATION:AUT City Campus
END:VEVENT
END:VCALENDAR