BEGIN:VCALENDAR
VERSION:2.0
PRODID:-//Careers - ECPv6.15.20//NONSGML v1.0//EN
CALSCALE:GREGORIAN
METHOD:PUBLISH
X-WR-CALNAME:Careers
X-ORIGINAL-URL:https://careers.gc.ac.nz
X-WR-CALDESC:Events for Careers
REFRESH-INTERVAL;VALUE=DURATION:PT1H
X-Robots-Tag:noindex
X-PUBLISHED-TTL:PT1H
BEGIN:VTIMEZONE
TZID:UTC
BEGIN:STANDARD
TZOFFSETFROM:+0000
TZOFFSETTO:+0000
TZNAME:UTC
DTSTART:20240101T000000
END:STANDARD
END:VTIMEZONE
BEGIN:VEVENT
DTSTART;TZID=UTC:20250711T100000
DTEND;TZID=UTC:20250711T140000
DTSTAMP:20260423T033433
CREATED:20250402T013938Z
LAST-MODIFIED:20250402T014127Z
UID:4237-1752228000-1752242400@careers.gc.ac.nz
SUMMARY:Crown Institute of Studies Open Day
DESCRIPTION:Offer courses in \n\nBusiness\nHealth and Wellbeing\nHospitality\nTravel and Tourism
URL:https://careers.gc.ac.nz/event/crown-institue-of-studies-open-day/
LOCATION:Crown Institute of Studies\, 7-9 Falcon St\, Parnell\, Auckland\, New Zealand
END:VEVENT
BEGIN:VEVENT
DTSTART;TZID=UTC:20250711T110000
DTEND;TZID=UTC:20250711T140000
DTSTAMP:20260423T033433
CREATED:20250506T030216Z
LAST-MODIFIED:20250506T030218Z
UID:4275-1752231600-1752242400@careers.gc.ac.nz
SUMMARY:South Seas Open Day
DESCRIPTION:
URL:https://careers.gc.ac.nz/event/south-seas-open-day/
LOCATION:South Seas Film School\, Unit 3\, 75 Ellice Rd\, Glenfield\, Auckland\, 0629\, New Zealand
END:VEVENT
END:VCALENDAR