BEGIN:VCALENDAR
VERSION:2.0
PRODID:-//Careers - ECPv6.15.20//NONSGML v1.0//EN
CALSCALE:GREGORIAN
METHOD:PUBLISH
X-WR-CALNAME:Careers
X-ORIGINAL-URL:https://careers.gc.ac.nz
X-WR-CALDESC:Events for Careers
REFRESH-INTERVAL;VALUE=DURATION:PT1H
X-Robots-Tag:noindex
X-PUBLISHED-TTL:PT1H
BEGIN:VTIMEZONE
TZID:UTC
BEGIN:STANDARD
TZOFFSETFROM:+0000
TZOFFSETTO:+0000
TZNAME:UTC
DTSTART:20240101T000000
END:STANDARD
END:VTIMEZONE
BEGIN:VEVENT
DTSTART;TZID=UTC:20250807T173000
DTEND;TZID=UTC:20250807T193000
DTSTAMP:20260423T020756
CREATED:20250708T204552Z
LAST-MODIFIED:20250708T204552Z
UID:4432-1754587800-1754595000@careers.gc.ac.nz
SUMMARY:Accounting Career Pitch
DESCRIPTION:Join us at the University of Auckland Business School for an ‘pitch’ event featuring industry experts. Discover where a career in accounting can take you and gain valuable insights to help shape your future. \n  \n🎤 Career Pitch Live:\nReal Stories. Real Pathways. Real Futures in Accounting. \n📅 Date: Thursday\, 7 August 2025\n🕠 Time: 5:30 PM – 7:30 PM\n📍 Location: University of Auckland\, Business School\n🔗 Register now: https://careerpitch2025.eventbrite.co.nz \n  \n✨ Discover where a career in accounting can take you!\nJoin us for an inspiring event where 5 Chartered Accountants share their real-life journeys—from high school dreams to professional success. \nIn just 30 minutes\, you’ll hear 5 unique career stories that showcase the diversity\, impact\, and excitement of the accounting profession. \n🎯 Why attend? \n\nHear from passionate Accounting professionals who’ve walked the path\nExplore the many directions a career in accounting can lead\nAsk questions and get real answers\nConnect one-on-one during our networking session\n\nWhether you’re curious about accounting or already considering it as a career\, this event is your chance to see what’s possible. \n👥 Who should attend?\nStudents curious about accounting\, considering a business major\, or exploring future career options. \n🎓 Hosted in partnership with the University of Auckland Business School \n📣 Please share this event with interested students—it’s a fantastic opportunity to explore the future of accounting!
URL:https://careers.gc.ac.nz/event/accounting-career-pitch/
LOCATION:University of Auckland Business school\, 12 Grafton Rd\, Auckland\, 1010\, New Zealand
END:VEVENT
BEGIN:VEVENT
DTSTART;TZID=UTC:20250807T173000
DTEND;TZID=UTC:20250807T193000
DTSTAMP:20260423T020756
CREATED:20250722T234207Z
LAST-MODIFIED:20250722T234209Z
UID:4449-1754587800-1754595000@careers.gc.ac.nz
SUMMARY:Career Pitch Live - Real Futures in Accounting
DESCRIPTION:Five minute presentations about where a degree in Accounting can take you. Click on the flyer for details. \nSDE Career Pitch Live Flyer 01 (002) \n 
URL:https://careers.gc.ac.nz/event/career-pitch-live-real-futures-in-accounting/
LOCATION:Owen G Glenn Building\, Grafton Road\, Auckland\, New Zealand
END:VEVENT
END:VCALENDAR