BEGIN:VCALENDAR
VERSION:2.0
PRODID:-//Careers - ECPv6.15.20//NONSGML v1.0//EN
CALSCALE:GREGORIAN
METHOD:PUBLISH
X-ORIGINAL-URL:https://careers.gc.ac.nz
X-WR-CALDESC:Events for Careers
REFRESH-INTERVAL;VALUE=DURATION:PT1H
X-Robots-Tag:noindex
X-PUBLISHED-TTL:PT1H
BEGIN:VTIMEZONE
TZID:UTC
BEGIN:STANDARD
TZOFFSETFROM:+0000
TZOFFSETTO:+0000
TZNAME:UTC
DTSTART:20240101T000000
END:STANDARD
END:VTIMEZONE
BEGIN:VEVENT
DTSTART;TZID=UTC:20250815T090000
DTEND;TZID=UTC:20250815T193000
DTSTAMP:20260423T020945
CREATED:20250310T233940Z
LAST-MODIFIED:20250723T025017Z
UID:4196-1755248400-1755286200@careers.gc.ac.nz
SUMMARY:Massey University Open Day
DESCRIPTION:Open Days 2025 \n\nManawatū (Palmerston North) Open Day—Wednesday 6th August\nŌtehā (Auckland) Open Day—Friday 15th August\nPukeahu (Wellington) Open Day—Friday 22nd August\nAviation Open Day—Saturday 13th September\n\nCheck out the website to find out more about the day \nProgramme \n9:00 – 2:00 pm \n2025_Open_Day_Auckland_Schedule \n5:30 – 7:30 pm \nEvening Schedule \n 
URL:https://careers.gc.ac.nz/event/massey-university-open-day-2/
LOCATION:Massey University Albany Campus\, Gate 1\, Dairy Flat Highway (SH17)\, Albany\, Auckland\, New Zealand
END:VEVENT
END:VCALENDAR