BEGIN:VCALENDAR
VERSION:2.0
PRODID:-//Careers - ECPv6.15.20//NONSGML v1.0//EN
CALSCALE:GREGORIAN
METHOD:PUBLISH
X-ORIGINAL-URL:https://careers.gc.ac.nz
X-WR-CALDESC:Events for Careers
REFRESH-INTERVAL;VALUE=DURATION:PT1H
X-Robots-Tag:noindex
X-PUBLISHED-TTL:PT1H
BEGIN:VTIMEZONE
TZID:UTC
BEGIN:STANDARD
TZOFFSETFROM:+0000
TZOFFSETTO:+0000
TZNAME:UTC
DTSTART:20240101T000000
END:STANDARD
END:VTIMEZONE
BEGIN:VEVENT
DTSTART;TZID=UTC:20250830T083000
DTEND;TZID=UTC:20250830T150000
DTSTAMP:20260423T020925
CREATED:20250518T234843Z
LAST-MODIFIED:20250518T234843Z
UID:4304-1756542600-1756566000@careers.gc.ac.nz
SUMMARY:AUT Live (Open Day)
DESCRIPTION:Join us at AUT LIVE\, our university open day. Register now to meet talented academics\, check out world-class facilities and learn about innovative programmes on Saturday 30 August 2025 \nHere is the link to register https://www.aut.ac.nz/live
URL:https://careers.gc.ac.nz/event/aut-live-open-day-7/
LOCATION:AUT City Campus
END:VEVENT
BEGIN:VEVENT
DTSTART;TZID=UTC:20250830T090000
DTEND;TZID=UTC:20250830T160000
DTSTAMP:20260423T020925
CREATED:20250519T001417Z
LAST-MODIFIED:20250519T001417Z
UID:4310-1756544400-1756569600@careers.gc.ac.nz
SUMMARY:University of Auckland Manawa Mai Open Day
DESCRIPTION:On campus Open Day with a variety of demonstrations\, short lectures\, etc. \nRegister at https://www.auckland.ac.nz/en/manawa-mai/open-day.html
URL:https://careers.gc.ac.nz/event/university-of-auckland-manawa-mai-open-day-2/
LOCATION:University of Auckland\, Auckland\, New Zealand
END:VEVENT
BEGIN:VEVENT
DTSTART;TZID=UTC:20250830T090000
DTEND;TZID=UTC:20250830T180000
DTSTAMP:20260423T020925
CREATED:20250810T210239Z
LAST-MODIFIED:20250810T210239Z
UID:4492-1756544400-1756576800@careers.gc.ac.nz
SUMMARY:Whitecliffe Open Day
DESCRIPTION:If you’re exploring your study options\, our Open Day is the perfect chance to see what being a student at Whitecliffe could look like. \nWhat to expect: \n\n\n\n\n\nTour our campus and creative studios\nMeet lecturers and current students\nSee inspiring student projects in action\nDiscover how our programmes across campuses — IT\, Design\, Fashion\, Jewellery\, Fine Arts\, and Creative Arts Therapy — can unlock new opportunities.\n\n\n\n\n\nOverview \nRegister
URL:https://careers.gc.ac.nz/event/whitecliffe-open-day-6/
LOCATION:Whitecliffe\, 67 Symonds St\,\, Auckland\, New Zealand
END:VEVENT
END:VCALENDAR