BEGIN:VCALENDAR
VERSION:2.0
PRODID:-//Careers - ECPv6.15.20//NONSGML v1.0//EN
CALSCALE:GREGORIAN
METHOD:PUBLISH
X-WR-CALNAME:Careers
X-ORIGINAL-URL:https://careers.gc.ac.nz
X-WR-CALDESC:Events for Careers
REFRESH-INTERVAL;VALUE=DURATION:PT1H
X-Robots-Tag:noindex
X-PUBLISHED-TTL:PT1H
BEGIN:VTIMEZONE
TZID:UTC
BEGIN:STANDARD
TZOFFSETFROM:+0000
TZOFFSETTO:+0000
TZNAME:UTC
DTSTART:20240101T000000
END:STANDARD
END:VTIMEZONE
BEGIN:VEVENT
DTSTART;TZID=UTC:20250906T090000
DTEND;TZID=UTC:20250906T110000
DTSTAMP:20260423T004706
CREATED:20250813T005859Z
LAST-MODIFIED:20250813T005859Z
UID:4494-1757149200-1757156400@careers.gc.ac.nz
SUMMARY:Techtorium Open Day
DESCRIPTION:Join us on Saturday 6th September between 9am-11am for Techtorium Open Day. Come along and bring friends and whanau to chat with our expert team about how you can kick off your career in Tech. Whether you’re interested in becoming a Cloud Engineer or Software Developer\, we can show you the path to get there! \nRegister
URL:https://careers.gc.ac.nz/event/techtorium-open-day-10/
LOCATION:Techtorium\, Level 3/182 Broadway\, Newmarket\, Auckland\, New Zealand
END:VEVENT
BEGIN:VEVENT
DTSTART;TZID=UTC:20250906T100000
DTEND;TZID=UTC:20250906T140000
DTSTAMP:20260423T004706
CREATED:20250616T234706Z
LAST-MODIFIED:20250616T234706Z
UID:4396-1757152800-1757167200@careers.gc.ac.nz
SUMMARY:Unitec Open Day
DESCRIPTION:Unitec Open Day 2025 is coming up on Saturday 6 September\, and it’s a great opportunity for students\, parents\, and anyone considering tertiary study to explore what’s on offer at Unitec. \nWhether your students are planning to start study\, change direction\, or upskill\, this event offers a chance to experience our campuses\, meet teaching and support staff\, and ask the questions that matter. \nWhat to expect: \n\nExplore a wide range of career-focused programmes across both campuses\nTake part in hands-on activities and interactive demonstrations\nJoin a guided tour of key campus areas\nSpeak directly with lecturers\, student support staff\, and career consultants\nGet help with enrolment\, financial aid information\, and application support\nBring application documents for on-the-spot certification\nEnjoy a free coffee and a goodie bag while exploring\n\nDate: Saturday 6 September 2025\nTime: 10:00am – 2:00pm\nLocations: Both our Mt Albert Campus and Waitākere Campus \nA free shuttle will run between campuses throughout the day. \nRegister for the Unitec Open Day HERE
URL:https://careers.gc.ac.nz/event/unitec-open-day-8/
LOCATION:Unitec\, Entry 1\, Carrington Road\, Auckland\, New Zealand
END:VEVENT
END:VCALENDAR