BEGIN:VCALENDAR
VERSION:2.0
PRODID:-//Careers - ECPv6.15.20//NONSGML v1.0//EN
CALSCALE:GREGORIAN
METHOD:PUBLISH
X-WR-CALNAME:Careers
X-ORIGINAL-URL:https://careers.gc.ac.nz
X-WR-CALDESC:Events for Careers
REFRESH-INTERVAL;VALUE=DURATION:PT1H
X-Robots-Tag:noindex
X-PUBLISHED-TTL:PT1H
BEGIN:VTIMEZONE
TZID:UTC
BEGIN:STANDARD
TZOFFSETFROM:+0000
TZOFFSETTO:+0000
TZNAME:UTC
DTSTART:20240101T000000
END:STANDARD
END:VTIMEZONE
BEGIN:VEVENT
DTSTART;TZID=UTC:20250910T170000
DTEND;TZID=UTC:20250910T190000
DTSTAMP:20260423T004706
CREATED:20250901T213335Z
LAST-MODIFIED:20250901T213335Z
UID:4510-1757523600-1757530800@careers.gc.ac.nz
SUMMARY:PIHMS Virtual Hotel & Hospitality Expo
DESCRIPTION:PIMHS = Pacific International Hotel Management School (New Plymouth) \nWe are delighted to invite senior students who are interested in business and management\, hotel and the hospitality industry to attend our Online Hotel & Hospitality Expo\, featuring a live Q&A with current hoteliers and alumni representing major hotel brands in our global industry network. \n🗓 Event Details \n\nDate & Time: Wednesday 10th September 2025\, 5pm – 7pm NZST\nFormat: A Zoom-based live event\, with breakout “hotel rooms” for small group Q&A and industry panels.\nAudience: Current Year  11\, 12 & 13 students (or equivalent)\, especially those interested in hospitality\, event planning\, tourism\, marketing\, business management or travel.\n\n🎓 Why Attend? \nGet genuine insight into hotel business management from the experts:\nPIHMS operates like a working hotel campus—students train in food & beverage\, kitchen\, front office\, housekeeping\, and management from Year 1\, with up two guaranteed paid industry placements* in New Zealand or abroad. \n  \nAt the webinar you’ll:  \n\nHear live from hoteliers who manage multi-star properties around the world.\nJoin a panel of recent PIHMS graduates working in management and operations.\nLearn how you can combine your passion for business with hospitality at one of the most practical and highly networked vocational institutions.\n\n🛠 What you will gain from this \n\nHotel Leadership & Strategy: Business planning\, finance\, HR\, guest experience.\nReal-world Application: The hotel is the classroom—guests\, events\, services.\nGuaranteed Paid Placements: Two paid placements* (up to 20 weeks total) in 3–5-star hotels globally\nPathways After PIHMS: Over 96 % find employment within six months of graduation; 85 % earn a promotion within 12 months\n\nREGISTER
URL:https://careers.gc.ac.nz/event/pihms-virtual-hotel-hospitality-expo/
END:VEVENT
END:VCALENDAR