BEGIN:VCALENDAR
VERSION:2.0
PRODID:-//Careers - ECPv6.15.20//NONSGML v1.0//EN
CALSCALE:GREGORIAN
METHOD:PUBLISH
X-WR-CALNAME:Careers
X-ORIGINAL-URL:https://careers.gc.ac.nz
X-WR-CALDESC:Events for Careers
REFRESH-INTERVAL;VALUE=DURATION:PT1H
X-Robots-Tag:noindex
X-PUBLISHED-TTL:PT1H
BEGIN:VTIMEZONE
TZID:UTC
BEGIN:STANDARD
TZOFFSETFROM:+0000
TZOFFSETTO:+0000
TZNAME:UTC
DTSTART:20240101T000000
END:STANDARD
END:VTIMEZONE
BEGIN:VEVENT
DTSTART;TZID=UTC:20250913T093000
DTEND;TZID=UTC:20250913T123000
DTSTAMP:20260423T004706
CREATED:20250618T205955Z
LAST-MODIFIED:20250618T210015Z
UID:4406-1757755800-1757766600@careers.gc.ac.nz
SUMMARY:MIT Open Day
DESCRIPTION:
URL:https://careers.gc.ac.nz/event/mit-open-day-3/
LOCATION:MIT\, Block D\, gate 3\, Newbury St\, Otara\, Auckland\, New Zealand
END:VEVENT
END:VCALENDAR