BEGIN:VCALENDAR
VERSION:2.0
PRODID:-//Careers - ECPv6.15.20//NONSGML v1.0//EN
CALSCALE:GREGORIAN
METHOD:PUBLISH
X-ORIGINAL-URL:https://careers.gc.ac.nz
X-WR-CALDESC:Events for Careers
REFRESH-INTERVAL;VALUE=DURATION:PT1H
X-Robots-Tag:noindex
X-PUBLISHED-TTL:PT1H
BEGIN:VTIMEZONE
TZID:UTC
BEGIN:STANDARD
TZOFFSETFROM:+0000
TZOFFSETTO:+0000
TZNAME:UTC
DTSTART:20240101T000000
END:STANDARD
END:VTIMEZONE
BEGIN:VEVENT
DTSTART;TZID=UTC:20251004T123000
DTEND;TZID=UTC:20251004T150000
DTSTAMP:20260422T231515
CREATED:20250312T201959Z
LAST-MODIFIED:20250312T201959Z
UID:4200-1759581000-1759590000@careers.gc.ac.nz
SUMMARY:NZ College of Chiropractic Open Day
DESCRIPTION:Open Day\n\n\n\nOpen days are an opportunity for prospective students and their friends and families to learn more about a career in chiropractic and find out what it’s like to study at the New Zealand College of Chiropractic
URL:https://careers.gc.ac.nz/event/nz-college-of-chiropractic-open-day-15/
LOCATION:NZ College of Chiropractic\, 6 Harrison Road\, Mt Wellington\, Auckland\, New Zealand
END:VEVENT
END:VCALENDAR