BEGIN:VCALENDAR
VERSION:2.0
PRODID:-//Careers - ECPv6.15.20//NONSGML v1.0//EN
CALSCALE:GREGORIAN
METHOD:PUBLISH
X-ORIGINAL-URL:https://careers.gc.ac.nz
X-WR-CALDESC:Events for Careers
REFRESH-INTERVAL;VALUE=DURATION:PT1H
X-Robots-Tag:noindex
X-PUBLISHED-TTL:PT1H
BEGIN:VTIMEZONE
TZID:UTC
BEGIN:STANDARD
TZOFFSETFROM:+0000
TZOFFSETTO:+0000
TZNAME:UTC
DTSTART:20240101T000000
END:STANDARD
END:VTIMEZONE
BEGIN:VEVENT
DTSTART;TZID=UTC:20251009T130000
DTEND;TZID=UTC:20251009T150000
DTSTAMP:20260422T231524
CREATED:20250821T002811Z
LAST-MODIFIED:20250821T002811Z
UID:4500-1760014800-1760022000@careers.gc.ac.nz
SUMMARY:Yoobee South Seas Open Day
DESCRIPTION:About South Seas \nSouth Seas Film & Television School has been fuelling the film and television industries for over 30 years. Our school has nurtured a talented generation of creatives across various fields\, including post-production\, directing\, scriptwriting\, documentary research\, production management\, camera operation\, lighting\, audio\, and acting. \nSee more at South Seas Campus – Film School | Yoobee \nRegistration link to follow.
URL:https://careers.gc.ac.nz/event/yoobee-south-seas-open-day/
LOCATION:South Seas Film School\, Unit 3\, 75 Ellice Rd\, Glenfield\, Auckland\, 0629\, New Zealand
END:VEVENT
BEGIN:VEVENT
DTSTART;TZID=UTC:20251009T170000
DTEND;TZID=UTC:20251009T190000
DTSTAMP:20260422T231524
CREATED:20250821T002542Z
LAST-MODIFIED:20250821T002542Z
UID:4497-1760029200-1760036400@careers.gc.ac.nz
SUMMARY:Yoobee City Road Open Day
DESCRIPTION:This central Auckland campus is a design\, digital innovation\, software engineering\, animation and 3D graphics powerhouse. \nCheck it out at Auckland City Road Campus | Yoobee \nRegistration link to come for Open Day. \nTwo sessions 10:00 – 12:00 and 5:00 – 7:00
URL:https://careers.gc.ac.nz/event/yoobee-city-road-open-day/
LOCATION:Yoobee City Road\, 3 City Road\, Auckland\, 1010\, New Zealand
END:VEVENT
END:VCALENDAR