BEGIN:VCALENDAR
VERSION:2.0
PRODID:-//Careers - ECPv6.15.20//NONSGML v1.0//EN
CALSCALE:GREGORIAN
METHOD:PUBLISH
X-ORIGINAL-URL:https://careers.gc.ac.nz
X-WR-CALDESC:Events for Careers
REFRESH-INTERVAL;VALUE=DURATION:PT1H
X-Robots-Tag:noindex
X-PUBLISHED-TTL:PT1H
BEGIN:VTIMEZONE
TZID:UTC
BEGIN:STANDARD
TZOFFSETFROM:+0000
TZOFFSETTO:+0000
TZNAME:UTC
DTSTART:20240101T000000
END:STANDARD
END:VTIMEZONE
BEGIN:VEVENT
DTSTART;TZID=UTC:20251011T100000
DTEND;TZID=UTC:20251011T150000
DTSTAMP:20260422T231513
CREATED:20250904T001337Z
LAST-MODIFIED:20250904T001337Z
UID:4517-1760176800-1760194800@careers.gc.ac.nz
SUMMARY:SAE Institute: STAR Course in Creative Media: Audio\, Music Production\, Songwriting and Screen
DESCRIPTION:Do you love Music or Film? Do you want to know how your favourite album or movie was made? Maybe make one yourself? \nJoin us for a weekend at SAE Auckland! \nStep into the role of Songwriter\, Music Producer\, Audio Engineer or Screen Producer and learn about your chosen discipline from real industry professionals! Level up your skills and discover new techniques\, then end your weekend on an epic note with a collaborative Music Video! \nWhether you are a songwriter\, a beat maker\, a film buff or have never tried either but just want to give it a go\, this STAR Course is for anyone! \nTry one of our disciplines and see if SAE is right for you. \n\nNo experience required\nClasses will be delivered by our SAE Studio Supervisors\nCatering will be provided for all participants.\nAvailable to students Yr 11 to 13\n\nParticipants will gather in small groups of their preferred discipline and spend the day learning about techniques\, workflow and creative process. \nSongwriting: Getting together and writing a song looking at lyrics\, structure and harmony. \nAudio Production: Getting an induction into studio recording\, setting up microphones and running the sound through a professional desk. \nMusic Production: Making a song in Logic or Ableton\, from session setup to coming up with the beat and building the track. \nScreen Production: Setting up a scene\, finding the right lighting and composition for your shot and capturing video through industry-standard camera equipment. \n  \nFollowing the individual group work students will collaborate on a hands-on project involving all four disciplines! \n  \nWorkshop hours: \nSaturday\, 11th of October 10am-3pm \nSunday\, 12th of October 10am-3pm
URL:https://careers.gc.ac.nz/event/sae-institute-star-course-in-creative-media-audio-music-production-songwriting-and-screen/
LOCATION:SAE Institute\, 12 Heather St\, Parnell\, Auckland\, 1052\, New Zealand
END:VEVENT
END:VCALENDAR