BEGIN:VCALENDAR
VERSION:2.0
PRODID:-//Careers - ECPv6.15.20//NONSGML v1.0//EN
CALSCALE:GREGORIAN
METHOD:PUBLISH
X-WR-CALNAME:Careers
X-ORIGINAL-URL:https://careers.gc.ac.nz
X-WR-CALDESC:Events for Careers
REFRESH-INTERVAL;VALUE=DURATION:PT1H
X-Robots-Tag:noindex
X-PUBLISHED-TTL:PT1H
BEGIN:VTIMEZONE
TZID:UTC
BEGIN:STANDARD
TZOFFSETFROM:+0000
TZOFFSETTO:+0000
TZNAME:UTC
DTSTART:20240101T000000
END:STANDARD
END:VTIMEZONE
BEGIN:VEVENT
DTSTART;TZID=UTC:20251015T093000
DTEND;TZID=UTC:20251015T140000
DTSTAMP:20260422T231507
CREATED:20250901T000943Z
LAST-MODIFIED:20250901T000943Z
UID:4507-1760520600-1760536800@careers.gc.ac.nz
SUMMARY:Techtorium - Tech Fest
DESCRIPTION:This event is designed especially for Year 12 and Year 13 students. \nWe know Term 4 is a busy time\, but this is a fantastic opportunity for those students who: \n\nDon’t yet have plans after school and want to explore a potential career in IT.\nDon’t have many exams (or none) and are looking for a fun\, hands-on learning day.\n\n📅 When: Wednesday\, October 15th\n⏰ Time: 9:30am – 2:00pm\n📍 Where: Techtorium \nThe day will be split into two exciting sessions\, giving students the chance to experience the best of both worlds: \n\nComputer Engineering\nSoftware Development\n\nThey’ll take part in interactive workshops with our amazing trainers\, enjoy some great food\, and have the chance to win prizes! \n👉 To RSVP: https://forms.office.com/r/6uhRAaSHDg
URL:https://careers.gc.ac.nz/event/techtorium-tech-fest/
LOCATION:Techtorium\, Level 3/182 Broadway\, Newmarket\, Auckland\, New Zealand
END:VEVENT
BEGIN:VEVENT
DTSTART;TZID=UTC:20251015T170000
DTEND;TZID=UTC:20251015T190000
DTSTAMP:20260422T231507
CREATED:20250821T003636Z
LAST-MODIFIED:20250821T003636Z
UID:4502-1760547600-1760554800@careers.gc.ac.nz
SUMMARY:Elite and Cut Above Open Day
DESCRIPTION:Elite \nCentrally located in downtown Auckland\, the Queen Street City campus is a stunning custom built facility spread over two floors. With five spacious rooms for beauty therapy and makeup and an additional five spa therapy treatment rooms\, not to mention a large student common room for the students to enjoy. \nQueen Street Auckland Campus | Elite \nRegistration for Open Day Elite October Open Day | Elite School of Beauty and Spa \nCut Above \nSprawling across 3 floors\, the campus features well-equipped classrooms\, and an on-site salon and barbershop\, giving you the tools and experience to pursue your studies in the exciting hair\, barber\, makeup and special FX makeup industries \nAuckland City Campus | Cut Above \nRegistration for Open Day Cut Above Campus Open Day | Cut Above Academy \nAlso a 10:00 – 12: 00 session
URL:https://careers.gc.ac.nz/event/elite-and-cut-above-open-day/
LOCATION:Elite School of Beauty and Spa\, 360 Queen St\, Auckland\, 1010\, New Zealand
END:VEVENT
END:VCALENDAR