BEGIN:VCALENDAR
VERSION:2.0
PRODID:-//Careers - ECPv6.15.20//NONSGML v1.0//EN
CALSCALE:GREGORIAN
METHOD:PUBLISH
X-ORIGINAL-URL:https://careers.gc.ac.nz
X-WR-CALDESC:Events for Careers
REFRESH-INTERVAL;VALUE=DURATION:PT1H
X-Robots-Tag:noindex
X-PUBLISHED-TTL:PT1H
BEGIN:VTIMEZONE
TZID:UTC
BEGIN:STANDARD
TZOFFSETFROM:+0000
TZOFFSETTO:+0000
TZNAME:UTC
DTSTART:20240101T000000
END:STANDARD
END:VTIMEZONE
BEGIN:VEVENT
DTSTART;TZID=UTC:20251020T080000
DTEND;TZID=UTC:20251020T170000
DTSTAMP:20260422T231514
CREATED:20251020T214104Z
LAST-MODIFIED:20251020T214105Z
UID:4563-1760947200-1760979600@careers.gc.ac.nz
SUMMARY:Massey University Informatioon Evening
DESCRIPTION:If you are still weighing up your study plans for 2026\, please come along to our Information Evening—Thursday October 30th\, from 6:30pm \nOur Information Evening is your chance to explore everything Massey has to offer. \nYou’ll be able to: \n\nChat one-on-one with our friendly staff for personalised advice\n\n\nLearn about the wide range of qualifications available\nAttend panel discussions and short presentations on study options\nGet support with your application and enrolling\nDiscover the career pathways your study could lead to\n\nYou’ll meet representatives from our colleges\, get answers to questions\, and walk away with the confidence to take your next step. \nPlease see attached the schedule and flyer. \nREGISTER HERE
URL:https://careers.gc.ac.nz/event/massey-university-informatioon-evening/
END:VEVENT
END:VCALENDAR