BEGIN:VCALENDAR
VERSION:2.0
PRODID:-//Careers - ECPv6.15.20//NONSGML v1.0//EN
CALSCALE:GREGORIAN
METHOD:PUBLISH
X-ORIGINAL-URL:https://careers.gc.ac.nz
X-WR-CALDESC:Events for Careers
REFRESH-INTERVAL;VALUE=DURATION:PT1H
X-Robots-Tag:noindex
X-PUBLISHED-TTL:PT1H
BEGIN:VTIMEZONE
TZID:UTC
BEGIN:STANDARD
TZOFFSETFROM:+0000
TZOFFSETTO:+0000
TZNAME:UTC
DTSTART:20240101T000000
END:STANDARD
END:VTIMEZONE
BEGIN:VEVENT
DTSTART;TZID=UTC:20251022T100000
DTEND;TZID=UTC:20251022T130000
DTSTAMP:20260422T231525
CREATED:20250918T233521Z
LAST-MODIFIED:20250918T233745Z
UID:4529-1761127200-1761138000@careers.gc.ac.nz
SUMMARY:NZMA National Open Day
DESCRIPTION:NZMA will be opening their doors for students to take part in some awesome activities\, get an inside peek of the campus and talk to our friendly staff and tutors about our courses that will help move them ahead. \nRegister \nWe also have Open Days for The Culinary Collective and New Zealand Institute of Sport on the same day\, click here to sign up for The Culinary Collective\, and click here for New Zealand Institute of Sport.
URL:https://careers.gc.ac.nz/event/nzma-national-open-day-2/
END:VEVENT
END:VCALENDAR