BEGIN:VCALENDAR
VERSION:2.0
PRODID:-//Careers - ECPv6.15.20//NONSGML v1.0//EN
CALSCALE:GREGORIAN
METHOD:PUBLISH
X-ORIGINAL-URL:https://careers.gc.ac.nz
X-WR-CALDESC:Events for Careers
REFRESH-INTERVAL;VALUE=DURATION:PT1H
X-Robots-Tag:noindex
X-PUBLISHED-TTL:PT1H
BEGIN:VTIMEZONE
TZID:UTC
BEGIN:STANDARD
TZOFFSETFROM:+0000
TZOFFSETTO:+0000
TZNAME:UTC
DTSTART:20240101T000000
END:STANDARD
END:VTIMEZONE
BEGIN:VEVENT
DTSTART;TZID=UTC:20251119T190000
DTEND;TZID=UTC:20251119T200000
DTSTAMP:20260422T215001
CREATED:20251030T195421Z
LAST-MODIFIED:20251102T202823Z
UID:4575-1763578800-1763582400@careers.gc.ac.nz
SUMMARY:Online Chiropractic Talk
DESCRIPTION:Want to know more about chiropractic? Click the registration link below: \nRegister
URL:https://careers.gc.ac.nz/event/online-chiropractic-talk/
END:VEVENT
END:VCALENDAR