BEGIN:VCALENDAR
VERSION:2.0
PRODID:-//Careers - ECPv6.15.20//NONSGML v1.0//EN
CALSCALE:GREGORIAN
METHOD:PUBLISH
X-WR-CALNAME:Careers
X-ORIGINAL-URL:https://careers.gc.ac.nz
X-WR-CALDESC:Events for Careers
REFRESH-INTERVAL;VALUE=DURATION:PT1H
X-Robots-Tag:noindex
X-PUBLISHED-TTL:PT1H
BEGIN:VTIMEZONE
TZID:UTC
BEGIN:STANDARD
TZOFFSETFROM:+0000
TZOFFSETTO:+0000
TZNAME:UTC
DTSTART:20220101T000000
END:STANDARD
END:VTIMEZONE
BEGIN:VEVENT
DTSTART;TZID=UTC:20230706T110000
DTEND;TZID=UTC:20230706T133000
DTSTAMP:20260426T035807
CREATED:20230430T221823Z
LAST-MODIFIED:20230430T221823Z
UID:3456-1688641200-1688650200@careers.gc.ac.nz
SUMMARY:Massey University Nursing Workshop
DESCRIPTION:https://www.massey.ac.nz/about/events/nursing-workshop/
URL:https://careers.gc.ac.nz/event/massey-university-nursing-workshop/
END:VEVENT
BEGIN:VEVENT
DTSTART;TZID=UTC:20230707T080000
DTEND;TZID=UTC:20230707T170000
DTSTAMP:20260426T035807
CREATED:20230605T210529Z
LAST-MODIFIED:20230605T210529Z
UID:3509-1688716800-1688749200@careers.gc.ac.nz
SUMMARY:Adventure Works Taster Course and Evening
DESCRIPTION:
URL:https://careers.gc.ac.nz/event/adventure-works-taster-course-and-evening/
LOCATION:Adventure Works\, 9 Geddes Terrace\, Avondale\, Auckland\, New Zealand
END:VEVENT
BEGIN:VEVENT
DTSTART;TZID=UTC:20230710T080000
DTEND;TZID=UTC:20230710T160000
DTSTAMP:20260426T035807
CREATED:20230619T210157Z
LAST-MODIFIED:20230619T211222Z
UID:3534-1688976000-1689004800@careers.gc.ac.nz
SUMMARY:Enginuity Day - University of Auckland
DESCRIPTION:Women in Engineering invite Year 12 and 13 female students to join them on campus for a day to experience engineering first-hand. \nMonday 10 July\, 8am – 4 pm \nActivities on the day Click here \nTo find out more details and registration Click here \n 
URL:https://careers.gc.ac.nz/event/enginuity-day-university-of-auckland/
LOCATION:Faculty of Engineering\, 5-7 Grafton Road\, Auckland\, 1010
END:VEVENT
BEGIN:VEVENT
DTSTART;TZID=UTC:20230711T100000
DTEND;TZID=UTC:20230711T140000
DTSTAMP:20260426T035807
CREATED:20230622T021048Z
LAST-MODIFIED:20230622T021050Z
UID:3551-1689069600-1689084000@careers.gc.ac.nz
SUMMARY:Crown Institute of Studies Open Day
DESCRIPTION:
URL:https://careers.gc.ac.nz/event/crown-institute-of-studies-open-day-14/
LOCATION:Crown Institute of Studies\, 7-9 Falcon St\, Parnell\, Auckland\, New Zealand
END:VEVENT
BEGIN:VEVENT
DTSTART;TZID=UTC:20230718T170000
DTEND;TZID=UTC:20230718T180000
DTSTAMP:20260426T035807
CREATED:20230605T211056Z
LAST-MODIFIED:20230605T212115Z
UID:3513-1689699600-1689703200@careers.gc.ac.nz
SUMMARY:Otago University Radiation Therapy Online Information Evening
DESCRIPTION:Radiation Therapy Online Information Evening \nTuesday 18 July\, 5-6pm \nVia Zoom \nAll welcome (students\, careers advisers\, parents) \nRegister to attend
URL:https://careers.gc.ac.nz/event/otago-university-radiation-therapy-online-information-evening/
END:VEVENT
BEGIN:VEVENT
DTSTART;TZID=UTC:20230722T100000
DTEND;TZID=UTC:20230722T150000
DTSTAMP:20260426T035807
CREATED:20230626T030555Z
LAST-MODIFIED:20230626T030556Z
UID:3562-1690020000-1690038000@careers.gc.ac.nz
SUMMARY:Massey Uni Engineering and Food Technology Experience Day
DESCRIPTION:Register at https://www.massey.ac.nz/about/events/engineering-and-food-technology-experience-day-july/
URL:https://careers.gc.ac.nz/event/massey-uni-engineering-and-food-technology-experience-day/
LOCATION:Massey University Food Tech\, Kell Drive\, Auckland\, 0632\, New Zealand
END:VEVENT
END:VCALENDAR