BEGIN:VCALENDAR
VERSION:2.0
PRODID:-//Careers - ECPv6.15.20//NONSGML v1.0//EN
CALSCALE:GREGORIAN
METHOD:PUBLISH
X-ORIGINAL-URL:https://careers.gc.ac.nz
X-WR-CALDESC:Events for Careers
REFRESH-INTERVAL;VALUE=DURATION:PT1H
X-Robots-Tag:noindex
X-PUBLISHED-TTL:PT1H
BEGIN:VTIMEZONE
TZID:UTC
BEGIN:STANDARD
TZOFFSETFROM:+0000
TZOFFSETTO:+0000
TZNAME:UTC
DTSTART:20220101T000000
END:STANDARD
END:VTIMEZONE
BEGIN:VEVENT
DTSTART;TZID=UTC:20230801T190000
DTEND;TZID=UTC:20230801T200000
DTSTAMP:20260426T024109
CREATED:20230625T215401Z
LAST-MODIFIED:20230625T215401Z
UID:3555-1690916400-1690920000@careers.gc.ac.nz
SUMMARY:NZ College of Chiropractic Career Talk
DESCRIPTION:Check out this link https://chiropractic.ac.nz/event/ct-2023-auckland-1-august/
URL:https://careers.gc.ac.nz/event/nz-college-of-chiropractic-career-talk/
LOCATION:NZ College of Chiropractic\, 6 Harrison Road\, Mt Wellington\, Auckland\, New Zealand
END:VEVENT
BEGIN:VEVENT
DTSTART;TZID=UTC:20230809T100000
DTEND;TZID=UTC:20230809T140000
DTSTAMP:20260426T024109
CREATED:20230717T011819Z
LAST-MODIFIED:20230717T012710Z
UID:3578-1691575200-1691589600@careers.gc.ac.nz
SUMMARY:Crown Institute of Studies Open Day
DESCRIPTION:Travel\, Hospitality and more
URL:https://careers.gc.ac.nz/event/crown-institute-of-studies-open-day-15/
LOCATION:Crown Institute of Studies\, 7-9 Falcon St\, Parnell\, Auckland\, New Zealand
END:VEVENT
BEGIN:VEVENT
DTSTART;TZID=UTC:20230811T090000
DTEND;TZID=UTC:20230811T160000
DTSTAMP:20260426T024109
CREATED:20230430T221645Z
LAST-MODIFIED:20230621T210443Z
UID:3454-1691744400-1691769600@careers.gc.ac.nz
SUMMARY:Massey University Albany Campus Open Day
DESCRIPTION:https://www.massey.ac.nz/about/events/open-day-2023-auckland-campus/
URL:https://careers.gc.ac.nz/event/massey-university-albany-campus-open-day-2/
END:VEVENT
BEGIN:VEVENT
DTSTART;TZID=UTC:20230816T160000
DTEND;TZID=UTC:20230816T193000
DTSTAMP:20260426T024109
CREATED:20230718T041115Z
LAST-MODIFIED:20230718T041426Z
UID:3590-1692201600-1692214200@careers.gc.ac.nz
SUMMARY:Air NZ Pilot Career Evening
DESCRIPTION:
URL:https://careers.gc.ac.nz/event/air-nz-pilot-career-evening-3/
LOCATION:Air New Zealand Academy of Learning\, 7 Rennie Drive\, Mangere\, Auckland\, New Zealand
END:VEVENT
BEGIN:VEVENT
DTSTART;TZID=UTC:20230819T100000
DTEND;TZID=UTC:20230819T150000
DTSTAMP:20260426T024109
CREATED:20230717T011659Z
LAST-MODIFIED:20230717T011659Z
UID:3576-1692439200-1692457200@careers.gc.ac.nz
SUMMARY:Media Design School Open Day
DESCRIPTION:A show case of what Media Design School has to offer. \nSee more/register here
URL:https://careers.gc.ac.nz/event/media-design-school-open-day-7/
LOCATION:Media Design School\, 10 Madden St\, Wynyard Quarter\, Auckland\, New Zealand
END:VEVENT
BEGIN:VEVENT
DTSTART;TZID=UTC:20230819T100000
DTEND;TZID=UTC:20230819T160000
DTSTAMP:20260426T024109
CREATED:20230810T004959Z
LAST-MODIFIED:20230810T012233Z
UID:3621-1692439200-1692460800@careers.gc.ac.nz
SUMMARY:SAE Open Day
DESCRIPTION:Screen Production\, Audio Production and Music Production \nFind out more at \nhttps://auckland.sae.edu/insights/discover-your-creative-career-at-saes-open-day/
URL:https://careers.gc.ac.nz/event/sae-open-day/
LOCATION:SAE Institute\, 12 Heather St\, Parnell\, Auckland\, 1052\, New Zealand
END:VEVENT
BEGIN:VEVENT
DTSTART;TZID=UTC:20230824T183000
DTEND;TZID=UTC:20230824T200000
DTSTAMP:20260426T024109
CREATED:20230815T213715Z
LAST-MODIFIED:20230815T213717Z
UID:3629-1692901800-1692907200@careers.gc.ac.nz
SUMMARY:QRC Information Evening
DESCRIPTION:
URL:https://careers.gc.ac.nz/event/qrc-information-evening/
LOCATION:SKYCITY Hotel\, 90 Federal St\, Auckland\, 1010\, New Zealand
END:VEVENT
BEGIN:VEVENT
DTSTART;TZID=UTC:20230826T090000
DTEND;TZID=UTC:20230826T150000
DTSTAMP:20260426T024109
CREATED:20230815T213944Z
LAST-MODIFIED:20230815T213944Z
UID:3637-1693040400-1693062000@careers.gc.ac.nz
SUMMARY:AUT Live (Open Day)
DESCRIPTION:AUT Open Day \nMore information and registration \nhttps://www.aut.ac.nz/live
URL:https://careers.gc.ac.nz/event/aut-live-open-day-5/
LOCATION:AUT City Campus
END:VEVENT
BEGIN:VEVENT
DTSTART;TZID=UTC:20230826T090000
DTEND;TZID=UTC:20230826T163000
DTSTAMP:20260426T024109
CREATED:20230524T210459Z
LAST-MODIFIED:20230524T210459Z
UID:3500-1693040400-1693067400@careers.gc.ac.nz
SUMMARY:University of Auckland Open Day
DESCRIPTION:Experience what it will be like for your students to be part of our whānau at Open Day. Explore our vibrant campus in the heart of Auckland\, check out our faculties\, chat to our staff and students and get a feel for what Waipapa Taumata Rau is all about. Expect an action-packed day with live performances\, lectures\, DJs\, food trucks and activities. \nRegister at https://www.auckland.ac.nz/en/manawa-mai/open-day.html
URL:https://careers.gc.ac.nz/event/university-of-auckland-open-day-5/
LOCATION:University of Auckland\, Auckland\, New Zealand
END:VEVENT
END:VCALENDAR