BEGIN:VCALENDAR
VERSION:2.0
PRODID:-//Careers - ECPv6.15.20//NONSGML v1.0//EN
CALSCALE:GREGORIAN
METHOD:PUBLISH
X-WR-CALNAME:Careers
X-ORIGINAL-URL:https://careers.gc.ac.nz
X-WR-CALDESC:Events for Careers
REFRESH-INTERVAL;VALUE=DURATION:PT1H
X-Robots-Tag:noindex
X-PUBLISHED-TTL:PT1H
BEGIN:VTIMEZONE
TZID:UTC
BEGIN:STANDARD
TZOFFSETFROM:+0000
TZOFFSETTO:+0000
TZNAME:UTC
DTSTART:20220101T000000
END:STANDARD
END:VTIMEZONE
BEGIN:VEVENT
DTSTART;TZID=UTC:20230902T100000
DTEND;TZID=UTC:20230902T140000
DTSTAMP:20260426T011515
CREATED:20230806T233914Z
LAST-MODIFIED:20230806T233914Z
UID:3612-1693648800-1693663200@careers.gc.ac.nz
SUMMARY:Unitec Open Day
DESCRIPTION:Join us on campus for our 2023 Open Day and get inspired about your future. This is your chance to discover your study options and career opportunities. Get all your questions about Unitec answered by course lecturers\, industry experts and student support teams. \nIf you’re interested in Healthcare and Social Work programmes\, the ideal Open Day to attend is at our Waitākere campus. This campus offers relevant courses for those programmes. \nTo explore all other study options\, make sure to visit the Mt Albert campus Open Day. Don’t worry about transportation between the campuses\, as shuttle buses will be available to conveniently transport attendees between the two locations. \nMt Albert Campus\n139 Carrington Road\nEnter through Gate 4 (follow signs for free parking/registration)\nBuilding 180 (Te Puna)\nMt Albert\, Auckland  View a map of Mt Albert campus \nWaitākere Campus\nCorner of Ratanui St and Waitākere Lane\nHenderson\nAuckland  View a map of Waitākere campus \nRegister
URL:https://careers.gc.ac.nz/event/unitec-open-day-6/
LOCATION:Unitec Building 180\, Carrington Rd\, Auckland\, New Zealand
END:VEVENT
BEGIN:VEVENT
DTSTART;TZID=UTC:20230904T090000
DTEND;TZID=UTC:20230904T140000
DTSTAMP:20260426T011515
CREATED:20230619T211743Z
LAST-MODIFIED:20230619T211745Z
UID:3537-1693818000-1693836000@careers.gc.ac.nz
SUMMARY:Refugee and Migrant Students Careers event.
DESCRIPTION:
URL:https://careers.gc.ac.nz/event/refugee-and-migrant-students-careers-event/
LOCATION:Due Drop Centre\, 770 Great South Road\, Auckland\, 2104\, New Zealand
END:VEVENT
BEGIN:VEVENT
DTSTART;TZID=UTC:20230907T190000
DTEND;TZID=UTC:20230907T203000
DTSTAMP:20260426T011515
CREATED:20230817T014805Z
LAST-MODIFIED:20230817T015334Z
UID:3656-1694113200-1694118600@careers.gc.ac.nz
SUMMARY:Laidlaw College Open Night
DESCRIPTION:
URL:https://careers.gc.ac.nz/event/laidlaw-college-open-night/
LOCATION:Laidlaw College\, 3 Smythe Road\, Henderson\, Auckland\, 0610\, New Zealand
END:VEVENT
BEGIN:VEVENT
DTSTART;TZID=UTC:20230911T193000
DTEND;TZID=UTC:20230911T203000
DTSTAMP:20260426T011515
CREATED:20230817T013211Z
LAST-MODIFIED:20230817T013213Z
UID:3649-1694460600-1694464200@careers.gc.ac.nz
SUMMARY:Laidlaw College Online Open Night
DESCRIPTION:
URL:https://careers.gc.ac.nz/event/laidlaw-college-online-open-night/
END:VEVENT
BEGIN:VEVENT
DTSTART;TZID=UTC:20230913T080000
DTEND;TZID=UTC:20230913T170000
DTSTAMP:20260426T011515
CREATED:20230717T005633Z
LAST-MODIFIED:20230717T005633Z
UID:3571-1694592000-1694624400@careers.gc.ac.nz
SUMMARY:Yoobee Colleges Open Day
DESCRIPTION:National Open Day \nWhere: Auckland City Road\, South Seas\, Wellington and Christchurch campuses. Online. \nFurther Information to Come \nCheck out the link \n 
URL:https://careers.gc.ac.nz/event/yoobee-colleges-open-day-5/
END:VEVENT
BEGIN:VEVENT
DTSTART;TZID=UTC:20230914T090000
DTEND;TZID=UTC:20230914T180000
DTSTAMP:20260426T011515
CREATED:20230906T022756Z
LAST-MODIFIED:20230906T022757Z
UID:3667-1694682000-1694714400@careers.gc.ac.nz
SUMMARY:Auto Super Shoppes Open Day
DESCRIPTION:
URL:https://careers.gc.ac.nz/event/auto-super-shoppes-open-day-2/
LOCATION:Auto Super Shoppes Academy\, 13B Piermark Dr\, Albany\, Auckland\, 0632\, New Zealand
END:VEVENT
BEGIN:VEVENT
DTSTART;TZID=UTC:20230916T090000
DTEND;TZID=UTC:20230916T110000
DTSTAMP:20260426T011515
CREATED:20230906T022929Z
LAST-MODIFIED:20230906T022929Z
UID:3675-1694854800-1694862000@careers.gc.ac.nz
SUMMARY:Auto Super Shoppes Open Day
DESCRIPTION:
URL:https://careers.gc.ac.nz/event/auto-super-shoppes-open-day-3/
LOCATION:Auto Super Shoppes Academy\, 13B Piermark Dr\, Albany\, Auckland\, 0632\, New Zealand
END:VEVENT
BEGIN:VEVENT
DTSTART;TZID=UTC:20230920T100000
DTEND;TZID=UTC:20230920T130000
DTSTAMP:20260426T011515
CREATED:20230824T210116Z
LAST-MODIFIED:20230824T210116Z
UID:3659-1695204000-1695214800@careers.gc.ac.nz
SUMMARY:Maritime Mahi Expo
DESCRIPTION:For students interested in exploring options in the maritime industries. \nRegister
URL:https://careers.gc.ac.nz/event/maritime-mahi-expo/
LOCATION:Maritime Museum\, cnr Quay and Hobson Sts\, Auckland\, New Zealand
END:VEVENT
END:VCALENDAR