BEGIN:VCALENDAR
VERSION:2.0
PRODID:-//Careers - ECPv6.15.20//NONSGML v1.0//EN
CALSCALE:GREGORIAN
METHOD:PUBLISH
X-WR-CALNAME:Careers
X-ORIGINAL-URL:https://careers.gc.ac.nz
X-WR-CALDESC:Events for Careers
REFRESH-INTERVAL;VALUE=DURATION:PT1H
X-Robots-Tag:noindex
X-PUBLISHED-TTL:PT1H
BEGIN:VTIMEZONE
TZID:UTC
BEGIN:STANDARD
TZOFFSETFROM:+0000
TZOFFSETTO:+0000
TZNAME:UTC
DTSTART:20230101T000000
END:STANDARD
END:VTIMEZONE
BEGIN:VEVENT
DTSTART;TZID=UTC:20240607T100000
DTEND;TZID=UTC:20240607T150000
DTSTAMP:20260423T210038
CREATED:20240515T213142Z
LAST-MODIFIED:20240515T213145Z
UID:3919-1717754400-1717772400@careers.gc.ac.nz
SUMMARY:Whitecliffe Open Days
DESCRIPTION:Register \nClick above to Register
URL:https://careers.gc.ac.nz/event/whitecliffe-open-days-2/
LOCATION:Whitecliffe\, 67 Symonds St\,\, Auckland\, New Zealand
END:VEVENT
BEGIN:VEVENT
DTSTART;TZID=UTC:20240608T100000
DTEND;TZID=UTC:20240608T150000
DTSTAMP:20260423T210038
CREATED:20240515T213310Z
LAST-MODIFIED:20240515T213403Z
UID:3924-1717840800-1717858800@careers.gc.ac.nz
SUMMARY:Whitecliffe Open Day
DESCRIPTION:Register
URL:https://careers.gc.ac.nz/event/whitecliffe-open-day-4/
LOCATION:Whitecliffe\, 67 Symonds St\,\, Auckland\, New Zealand
END:VEVENT
BEGIN:VEVENT
DTSTART;TZID=UTC:20240610T173000
DTEND;TZID=UTC:20240610T203000
DTSTAMP:20260423T210038
CREATED:20240501T030650Z
LAST-MODIFIED:20240501T030651Z
UID:3880-1718040600-1718051400@careers.gc.ac.nz
SUMMARY:Victoria University of Wellington Information Evening
DESCRIPTION:
URL:https://careers.gc.ac.nz/event/victoria-university-of-wellington-information-evening-4/
LOCATION:Aotea Centre\, 50 Mayoral Drive\, Auckland\, New Zealand
END:VEVENT
BEGIN:VEVENT
DTSTART;TZID=UTC:20240612T160000
DTEND;TZID=UTC:20240612T193000
DTSTAMP:20260423T210038
CREATED:20240403T002034Z
LAST-MODIFIED:20240403T002034Z
UID:3839-1718208000-1718220600@careers.gc.ac.nz
SUMMARY:North Shore Schools Career Expo
DESCRIPTION:An opportunity to find out about a variety of possible career paths and where you can study for them. \n 
URL:https://careers.gc.ac.nz/event/north-shore-schools-career-expo/
LOCATION:North Harbour Stadium\, Albany\, Auckland\, New Zealand
END:VEVENT
BEGIN:VEVENT
DTSTART;TZID=UTC:20240613T160000
DTEND;TZID=UTC:20240613T193000
DTSTAMP:20260423T210038
CREATED:20240403T002231Z
LAST-MODIFIED:20240403T002231Z
UID:3841-1718294400-1718307000@careers.gc.ac.nz
SUMMARY:North Shore Schools Career Expo
DESCRIPTION:An opportunity to explore a variety of possible career paths and where you can study for them.
URL:https://careers.gc.ac.nz/event/north-shore-schools-career-expo-2/
LOCATION:North Harbour Stadium\, Albany\, Auckland\, New Zealand
END:VEVENT
BEGIN:VEVENT
DTSTART;TZID=UTC:20240614T090000
DTEND;TZID=UTC:20240614T150000
DTSTAMP:20260423T210038
CREATED:20240501T030950Z
LAST-MODIFIED:20240501T031224Z
UID:3884-1718355600-1718377200@careers.gc.ac.nz
SUMMARY:Massey University College of Creative Arts Experience Day
DESCRIPTION:
URL:https://careers.gc.ac.nz/event/massey-university-college-of-creative-arts-experience-day/
END:VEVENT
BEGIN:VEVENT
DTSTART;TZID=UTC:20240615T123000
DTEND;TZID=UTC:20240615T153000
DTSTAMP:20260423T210038
CREATED:20240404T213710Z
LAST-MODIFIED:20240404T213712Z
UID:3849-1718454600-1718465400@careers.gc.ac.nz
SUMMARY:NZ College of Chirpopractic Open Day
DESCRIPTION:
URL:https://careers.gc.ac.nz/event/nz-college-of-chirpopractic-open-day/
LOCATION:NZ College of Chiropractic\, 6 Harrison Road\, Mt Wellington\, Auckland\, New Zealand
END:VEVENT
BEGIN:VEVENT
DTSTART;TZID=UTC:20240618T150000
DTEND;TZID=UTC:20240618T171500
DTSTAMP:20260423T210038
CREATED:20240612T222259Z
LAST-MODIFIED:20240612T222259Z
UID:3974-1718722800-1718730900@careers.gc.ac.nz
SUMMARY:Media Design School Virtual Open Day
DESCRIPTION:If you’re passionate about IT\, Gaming\, Animation\, Coding\, Artificial Intelligence\, Advertising\, or Design\, find out how Media Design School could lead you to success in a career of creativity\, wherever you may be. \nhttps://www.mediadesignschool.com/events/virtual-open-day \nOnline via Zoom \n 
URL:https://careers.gc.ac.nz/event/media-design-school-virtual-open-day/
END:VEVENT
BEGIN:VEVENT
DTSTART;TZID=UTC:20240618T180000
DTEND;TZID=UTC:20240618T203000
DTSTAMP:20260423T210038
CREATED:20240521T222142Z
LAST-MODIFIED:20240521T222142Z
UID:3945-1718733600-1718742600@careers.gc.ac.nz
SUMMARY:University of Canterbury Information Evening
DESCRIPTION:At UC Info Evenings\, you can find out about: \n\nDegree and course information\nScholarships\nAccommodation and the UC student experience\nStudent support\n\nRegister Here
URL:https://careers.gc.ac.nz/event/university-of-canterbury-information-evening-3/
LOCATION:North Harbour Stadium\, Albany\, Auckland\, New Zealand
END:VEVENT
BEGIN:VEVENT
DTSTART;TZID=UTC:20240618T183000
DTEND;TZID=UTC:20240618T200000
DTSTAMP:20260423T210038
CREATED:20240523T021136Z
LAST-MODIFIED:20240523T021138Z
UID:3948-1718735400-1718740800@careers.gc.ac.nz
SUMMARY:University of Otago Information Evening
DESCRIPTION:
URL:https://careers.gc.ac.nz/event/university-of-otago-information-evening-8/
LOCATION:Ellerslie Events Centre\, Auckland\, New Zealand
END:VEVENT
BEGIN:VEVENT
DTSTART;TZID=UTC:20240620T100000
DTEND;TZID=UTC:20240620T150000
DTSTAMP:20260423T210038
CREATED:20240312T210117Z
LAST-MODIFIED:20240312T210117Z
UID:3796-1718877600-1718895600@careers.gc.ac.nz
SUMMARY:NZ Careers Expo
DESCRIPTION:The NZ Careers Expo seeks to inspire and motivate young people to explore and discover the huge range of options and connect with organisations that help make their career aspirations a reality.
URL:https://careers.gc.ac.nz/event/nz-careers-expo-5/
LOCATION:ASB Showgrounds\, 217 Green Lane West\, Greenlane\, Auckland\, New Zealand
END:VEVENT
BEGIN:VEVENT
DTSTART;TZID=UTC:20240621T100000
DTEND;TZID=UTC:20240621T140000
DTSTAMP:20260423T210038
CREATED:20240312T210359Z
LAST-MODIFIED:20240312T210359Z
UID:3798-1718964000-1718978400@careers.gc.ac.nz
SUMMARY:NZ Careers Expo
DESCRIPTION:The NZ Careers Expo seeks to inspire and motivate young people to explore and discover the huge range of options and connect with organisations that help make their career aspirations a reality.
URL:https://careers.gc.ac.nz/event/nz-careers-expo-6/
LOCATION:ASB Showgrounds\, 217 Green Lane West\, Greenlane\, Auckland\, New Zealand
END:VEVENT
BEGIN:VEVENT
DTSTART;TZID=UTC:20240622T100000
DTEND;TZID=UTC:20240622T140000
DTSTAMP:20260423T210038
CREATED:20240516T211143Z
LAST-MODIFIED:20240516T211145Z
UID:3933-1719050400-1719064800@careers.gc.ac.nz
SUMMARY:Women in Engineering at U of A
DESCRIPTION:For Registration Click
URL:https://careers.gc.ac.nz/event/women-in-engineering-at-u-of-a/
LOCATION:University of Auckland Engineering\, 3 Grafton Road\, Auckland\, New Zealand
END:VEVENT
BEGIN:VEVENT
DTSTART;TZID=UTC:20240625T180000
DTEND;TZID=UTC:20240625T200000
DTSTAMP:20260423T210038
CREATED:20240311T193510Z
LAST-MODIFIED:20240311T193510Z
UID:3791-1719338400-1719345600@careers.gc.ac.nz
SUMMARY:University of Auckland Mānawa Mai Info Evening (online)
DESCRIPTION:Find out about your study options and get answers to questions about your first year at uni. \nMore information and registration https://www.auckland.ac.nz/en/manawa-mai.html?
URL:https://careers.gc.ac.nz/event/university-of-auckland-manawa-mai-info-evening-online/
END:VEVENT
END:VCALENDAR